BEGIN:VCALENDAR
VERSION:2.0
PRODID:-//ARK - Löhne und Gehälter in Kirche und Diakonie in Bayern - ECPv6.15.20//NONSGML v1.0//EN
CALSCALE:GREGORIAN
METHOD:PUBLISH
X-WR-CALNAME:ARK - Löhne und Gehälter in Kirche und Diakonie in Bayern
X-ORIGINAL-URL:https://ark-bayern.de
X-WR-CALDESC:Veranstaltungen für ARK - Löhne und Gehälter in Kirche und Diakonie in Bayern
REFRESH-INTERVAL;VALUE=DURATION:PT1H
X-Robots-Tag:noindex
X-PUBLISHED-TTL:PT1H
BEGIN:VTIMEZONE
TZID:Europe/Berlin
BEGIN:DAYLIGHT
TZOFFSETFROM:+0100
TZOFFSETTO:+0200
TZNAME:CEST
DTSTART:20250330T010000
END:DAYLIGHT
BEGIN:STANDARD
TZOFFSETFROM:+0200
TZOFFSETTO:+0100
TZNAME:CET
DTSTART:20251026T010000
END:STANDARD
BEGIN:DAYLIGHT
TZOFFSETFROM:+0100
TZOFFSETTO:+0200
TZNAME:CEST
DTSTART:20260329T010000
END:DAYLIGHT
BEGIN:STANDARD
TZOFFSETFROM:+0200
TZOFFSETTO:+0100
TZNAME:CET
DTSTART:20261025T010000
END:STANDARD
BEGIN:DAYLIGHT
TZOFFSETFROM:+0100
TZOFFSETTO:+0200
TZNAME:CEST
DTSTART:20270328T010000
END:DAYLIGHT
BEGIN:STANDARD
TZOFFSETFROM:+0200
TZOFFSETTO:+0100
TZNAME:CET
DTSTART:20271031T010000
END:STANDARD
END:VTIMEZONE
BEGIN:VEVENT
DTSTART;TZID=Europe/Berlin:20260521T103000
DTEND;TZID=Europe/Berlin:20260521T143000
DTSTAMP:20260423T143937
CREATED:20241107T104256Z
LAST-MODIFIED:20251106T111348Z
UID:5955-1779359400-1779373800@ark-bayern.de
SUMMARY:Sitzung der ARK
DESCRIPTION:
URL:https://ark-bayern.de/event/sitzung-der-ark-4/
CATEGORIES:ARK,Diakonie,Kirche
ORGANIZER;CN="ARK Bayern":MAILTO:presse@ark-bayern.de
END:VEVENT
BEGIN:VEVENT
DTSTART;TZID=Europe/Berlin:20260717T103000
DTEND;TZID=Europe/Berlin:20260717T143000
DTSTAMP:20260423T143937
CREATED:20241107T104213Z
LAST-MODIFIED:20251106T111426Z
UID:5953-1784284200-1784298600@ark-bayern.de
SUMMARY:Sitzung der ARK
DESCRIPTION:
URL:https://ark-bayern.de/event/sitzung-der-ark-3/
CATEGORIES:ARK,Diakonie,Kirche
ORGANIZER;CN="ARK Bayern":MAILTO:presse@ark-bayern.de
END:VEVENT
END:VCALENDAR